BEGIN:VCALENDAR
VERSION:2.0
CALSCALE:GREGORIAN
BEGIN:VEVENT
DTSTAMP:20260419T112040
DTSTART:20260507T173000
DTEND:20260507T190000
SUMMARY:Mother\'s Day Charcuterie @ Nauti MI
DESCRIPTION:Event Info: https://www.localwineevents.com/view/event/mothers-day-charcuterie-nauti-mi/1002194
LOCATION:NautiMI on the River -- 9260 Mcgregor Road Pinckney, MI 48169
STATUS:CONFIRMED
SEQUENCE:0
TRANSP:OPAQUE
END:VEVENT
END:VCALENDAR
