BEGIN:VCALENDAR
VERSION:2.0
CALSCALE:GREGORIAN
BEGIN:VEVENT
DTSTAMP:20260421T163837
DTSTART:20260507T190000
DTEND:20260507T210000
SUMMARY:2026 Tastemaker Awards | CultureMap Dallas
DESCRIPTION:Event Info: https://www.localwineevents.com/view/event/2026-tastemaker-awards-culturemap-dallas/1002183
LOCATION:Astoria Event Venue -- 3216 Royalty Row Irving, TX 75062
STATUS:CONFIRMED
SEQUENCE:0
TRANSP:OPAQUE
END:VEVENT
END:VCALENDAR
