BEGIN:VCALENDAR
VERSION:2.0
CALSCALE:GREGORIAN
BEGIN:VEVENT
DTSTAMP:20260424T062102
DTSTART:20260507T180000
DTEND:20260507T200000
SUMMARY:Homemade Fettuccine Alfredo With Chef Rajeswari - Pasta Making Cooking Class In Bay Area | Classpop!
DESCRIPTION:Event Info: https://www.localwineevents.com/view/event/homemade-fettuccine-alfredo-with-chef-rajeswari---pasta-making-cooking-class-in-bay-area-classpop/1002181
LOCATION:Faction Brewing -- 2501 Monarch Street Alameda, CA 94501
STATUS:CONFIRMED
SEQUENCE:0
TRANSP:OPAQUE
END:VEVENT
END:VCALENDAR
