BEGIN:VCALENDAR
VERSION:2.0
CALSCALE:GREGORIAN
BEGIN:VEVENT
DTSTAMP:20260420T192304
DTSTART:20260507T170000
DTEND:20260507T190000
SUMMARY:Paint  Sip
DESCRIPTION:Event Info: https://www.localwineevents.com/view/event/paint-sip/1002179
LOCATION:Four Seasons Hotel Westlake Village, California -- 2 Dole Drive Westlake Village, CA 91362
STATUS:CONFIRMED
SEQUENCE:0
TRANSP:OPAQUE
END:VEVENT
END:VCALENDAR
