BEGIN:VCALENDAR
VERSION:2.0
CALSCALE:GREGORIAN
BEGIN:VEVENT
DTSTAMP:20260419T114710
DTSTART:20260507T180000
DTEND:20260507T190000
SUMMARY:Zachys Cellar School:  Burgundy 201
DESCRIPTION:Event Info: https://www.localwineevents.com/view/event/zachys-cellar-school-burgundy-201/1002177
LOCATION:Zachys Wine  Liquor -- 30 Midland Avenue Port Chester, NY 10573
STATUS:CONFIRMED
SEQUENCE:0
TRANSP:OPAQUE
END:VEVENT
END:VCALENDAR
