BEGIN:VCALENDAR
VERSION:2.0
CALSCALE:GREGORIAN
BEGIN:VEVENT
DTSTAMP:20260421T141312
DTSTART:20260507T180000
DTEND:20260507T200000
SUMMARY:Indian Cooking Class: North Indian Dinner
DESCRIPTION:Event Info: https://www.localwineevents.com/view/event/indian-cooking-class-north-indian-dinner/1002176
LOCATION:Dublin -- Dublin Dublin, OH 43017
STATUS:CONFIRMED
SEQUENCE:0
TRANSP:OPAQUE
END:VEVENT
END:VCALENDAR
