BEGIN:VCALENDAR
VERSION:2.0
CALSCALE:GREGORIAN
BEGIN:VEVENT
DTSTAMP:20260419T114557
DTSTART:20260507T190000
DTEND:20260507T213000
SUMMARY:An Evening With Grande Dame Lidia Bastianich Celebrating The Art Of Pasta
DESCRIPTION:Event Info: https://www.localwineevents.com/view/event/an-evening-with-grande-dame-lidia-bastianich-celebrating-the-art-of-pasta/1002175
LOCATION:Becco -- 355 West 46th Street New York, NY 10036
STATUS:CONFIRMED
SEQUENCE:0
TRANSP:OPAQUE
END:VEVENT
END:VCALENDAR
