BEGIN:VCALENDAR
VERSION:2.0
CALSCALE:GREGORIAN
BEGIN:VEVENT
DTSTAMP:20260419T110802
DTSTART:20260507T180000
DTEND:20260507T200000
SUMMARY:Springtime Sip  Stroll
DESCRIPTION:Event Info: https://www.localwineevents.com/view/event/springtime-sip-stroll/1002171
LOCATION:Joe\'s Produce Gourmet Market -- 33152 West Seven Mile Road Livonia, MI 48152
STATUS:CONFIRMED
SEQUENCE:0
TRANSP:OPAQUE
END:VEVENT
END:VCALENDAR
