BEGIN:VCALENDAR
VERSION:2.0
CALSCALE:GREGORIAN
BEGIN:VEVENT
DTSTAMP:20260420T104114
DTSTART:20260507T173000
DTEND:20260507T183000
SUMMARY:Perfect Pairing 2026
DESCRIPTION:Event Info: https://www.localwineevents.com/view/event/perfect-pairing-2026/1002168
LOCATION:Rendezvous -- 187 Monroe Avenue Northwest Grand Rapids, MI 49503
STATUS:CONFIRMED
SEQUENCE:0
TRANSP:OPAQUE
END:VEVENT
END:VCALENDAR
