BEGIN:VCALENDAR
VERSION:2.0
CALSCALE:GREGORIAN
BEGIN:VEVENT
DTSTAMP:20260419T114923
DTSTART:20260507T190000
DTEND:20260507T210000
SUMMARY:FlteFest 2026
DESCRIPTION:Event Info: https://www.localwineevents.com/view/event/fltefest-2026/1002166
LOCATION:Flute Midtown -- 205 W 54th street New York, NY 10019
STATUS:CONFIRMED
SEQUENCE:0
TRANSP:OPAQUE
END:VEVENT
END:VCALENDAR
