BEGIN:VCALENDAR
VERSION:2.0
CALSCALE:GREGORIAN
BEGIN:VEVENT
DTSTAMP:20260419T114923
DTSTART:20260507T190000
DTEND:20260507T210000
SUMMARY:Roman Night At La Pizza  La Pasta
DESCRIPTION:Event Info: https://www.localwineevents.com/view/event/roman-night-at-la-pizza-la-pasta/1002165
LOCATION:La Pizza  La Pasta, Eataly Downtown -- 101 Liberty Street New York, NY 10006
STATUS:CONFIRMED
SEQUENCE:0
TRANSP:OPAQUE
END:VEVENT
END:VCALENDAR
