BEGIN:VCALENDAR
VERSION:2.0
CALSCALE:GREGORIAN
BEGIN:VEVENT
DTSTAMP:20260423T111520
DTSTART:20260507T180000
DTEND:20260507T203000
SUMMARY:Don Julio Tequila Dinner Tasting
DESCRIPTION:Event Info: https://www.localwineevents.com/view/event/don-julio-tequila-dinner-tasting/1002160
LOCATION:The Westin Sarasota -- 100 Marina View Drive Sarasota, FL 34236
STATUS:CONFIRMED
SEQUENCE:0
TRANSP:OPAQUE
END:VEVENT
END:VCALENDAR
