BEGIN:VCALENDAR
VERSION:2.0
CALSCALE:GREGORIAN
BEGIN:VEVENT
DTSTAMP:20260420T154316
DTSTART:20260507T173000
DTEND:20260507T200000
SUMMARY:27th Annual Calabasas Wine Tasting  Silent Auction
DESCRIPTION:Event Info: https://www.localwineevents.com/view/event/27th-annual-calabasas-wine-tasting-silent-auction/1002157
LOCATION:100 Civic Center Way -- 100 Civic Center Way Calabasas, CA 91302
STATUS:CONFIRMED
SEQUENCE:0
TRANSP:OPAQUE
END:VEVENT
END:VCALENDAR
