BEGIN:VCALENDAR
VERSION:2.0
CALSCALE:GREGORIAN
BEGIN:VEVENT
DTSTAMP:20260420T114740
DTSTART:20260507T170000
DTEND:20260507T200000
SUMMARY:Winery Takeover: Moret Brealynn Wines
DESCRIPTION:Event Info: https://www.localwineevents.com/view/event/winery-takeover-moret-brealynn-wines/1002155
LOCATION:Stewart  Jasper Co Store -- 2985 Renzo Lane Patterson, CA 95363
STATUS:CONFIRMED
SEQUENCE:0
TRANSP:OPAQUE
END:VEVENT
END:VCALENDAR
