BEGIN:VCALENDAR
VERSION:2.0
CALSCALE:GREGORIAN
BEGIN:VEVENT
DTSTAMP:20260419T114841
DTSTART:20260507T190000
DTEND:20260507T210000
SUMMARY:Make Epic American-Style Sushi At A Brooklyn Cocktail Bar With Chef Shota - Sushi Making Cooking Class In NYC | Classpop!
DESCRIPTION:Event Info: https://www.localwineevents.com/view/event/make-epic-american-style-sushi-at-a-brooklyn-cocktail-bar-with-chef-shota---sushi-making-cooking-class-in-nyc-classpop/1002150
LOCATION:Wandering Barman -- 315 Meserole Street Brooklyn, NY 11206
STATUS:CONFIRMED
SEQUENCE:0
TRANSP:OPAQUE
END:VEVENT
END:VCALENDAR
