BEGIN:VCALENDAR
VERSION:2.0
CALSCALE:GREGORIAN
BEGIN:VEVENT
DTSTAMP:20260421T163837
DTSTART:20260507T180000
DTEND:20260507T200000
SUMMARY:Mother\'s Day Charcuterie And Wine Tasting Workshop With Galore Grazing
DESCRIPTION:Event Info: https://www.localwineevents.com/view/event/mothers-day-charcuterie-and-wine-tasting-workshop-with-galore-grazing/1002148
LOCATION:Lorenzo Hotel Dallas, Tapestry Collection by Hilton -- 1011 South Akard Street Dallas, TX 75215
STATUS:CONFIRMED
SEQUENCE:0
TRANSP:OPAQUE
END:VEVENT
END:VCALENDAR
