BEGIN:VCALENDAR
VERSION:2.0
CALSCALE:GREGORIAN
BEGIN:VEVENT
DTSTAMP:20260424T062059
DTSTART:20260507T170000
DTEND:20260507T200000
SUMMARY:West Portal Spring Wine Walk
DESCRIPTION:Event Info: https://www.localwineevents.com/view/event/west-portal-spring-wine-walk/1002146
LOCATION:Coffee Hardware -- 32 West Portal Avenue San Francisco, CA 94127
STATUS:CONFIRMED
SEQUENCE:0
TRANSP:OPAQUE
END:VEVENT
END:VCALENDAR
