BEGIN:VCALENDAR
VERSION:2.0
CALSCALE:GREGORIAN
BEGIN:VEVENT
DTSTAMP:20260420T113851
DTSTART:20260507T183000
DTEND:20260507T210000
SUMMARY:VomFass May VIP Dinner
DESCRIPTION:Event Info: https://www.localwineevents.com/view/event/vomfass-may-vip-dinner/1002145
LOCATION:VOM FASS Crestview Hills (next to First Watch) -- 2770 Town Center Blvd Crestview Hills, KY 41017
STATUS:CONFIRMED
SEQUENCE:0
TRANSP:OPAQUE
END:VEVENT
END:VCALENDAR
