BEGIN:VCALENDAR
VERSION:2.0
CALSCALE:GREGORIAN
BEGIN:VEVENT
DTSTAMP:20260419T082422
DTSTART:20260507T190000
DTEND:20260507T203000
SUMMARY:Wine  Cheese Tasting
DESCRIPTION:Event Info: https://www.localwineevents.com/view/event/wine-cheese-tasting/1002139
LOCATION:Moksha Caf -- 249 Main Street Northport, NY 11768
STATUS:CONFIRMED
SEQUENCE:0
TRANSP:OPAQUE
END:VEVENT
END:VCALENDAR
