BEGIN:VCALENDAR
VERSION:2.0
CALSCALE:GREGORIAN
BEGIN:VEVENT
DTSTAMP:20260419T110553
DTSTART:20260507T180000
DTEND:20260507T193000
SUMMARY:Wine  Cheese Pairing
DESCRIPTION:Event Info: https://www.localwineevents.com/view/event/wine-cheese-pairing/1002138
LOCATION:Burgdorf\'s Winery -- 4212 Holt Road Webberville, MI 48892
STATUS:CONFIRMED
SEQUENCE:0
TRANSP:OPAQUE
END:VEVENT
END:VCALENDAR
