BEGIN:VCALENDAR
VERSION:2.0
CALSCALE:GREGORIAN
BEGIN:VEVENT
DTSTAMP:20260419T114557
DTSTART:20260507T190000
DTEND:20260507T220000
SUMMARY:The Dinner Table At Dagon (Upper West Side)
DESCRIPTION:Event Info: https://www.localwineevents.com/view/event/the-dinner-table-at-dagon-upper-west-side/1002134
LOCATION:Dagon -- 2454 Broadway New York, NY 10024
STATUS:CONFIRMED
SEQUENCE:0
TRANSP:OPAQUE
END:VEVENT
END:VCALENDAR
