BEGIN:VCALENDAR
VERSION:2.0
CALSCALE:GREGORIAN
BEGIN:VEVENT
DTSTAMP:20260421T141311
DTSTART:20260507T180000
DTEND:20260507T200000
SUMMARY:Paris, Je Taime
DESCRIPTION:Event Info: https://www.localwineevents.com/view/event/paris-je-taime/1002133
LOCATION:Mitchell Hall -- 250 Cleveland Avenue Columbus, OH 43215
STATUS:CONFIRMED
SEQUENCE:0
TRANSP:OPAQUE
END:VEVENT
END:VCALENDAR
