BEGIN:VCALENDAR
VERSION:2.0
CALSCALE:GREGORIAN
BEGIN:VEVENT
DTSTAMP:20260419T114558
DTSTART:20260507T190000
DTEND:20260507T220000
SUMMARY:An Evening Of Rare Champagne
DESCRIPTION:Event Info: https://www.localwineevents.com/view/event/an-evening-of-rare-champagne/1002129
LOCATION:Nine Cases -- 86 East 3rd Street New York, NY 10003
STATUS:CONFIRMED
SEQUENCE:0
TRANSP:OPAQUE
END:VEVENT
END:VCALENDAR
