BEGIN:VCALENDAR
VERSION:2.0
CALSCALE:GREGORIAN
BEGIN:VEVENT
DTSTAMP:20260420T154315
DTSTART:20260507T190000
DTEND:20260507T220000
SUMMARY:The Dinner Table At Katana (West Hollywood)
DESCRIPTION:Event Info: https://www.localwineevents.com/view/event/the-dinner-table-at-katana-west-hollywood/1002126
LOCATION:Katana LA -- 8439 Sunset Boulevard West Hollywood, CA 90069
STATUS:CONFIRMED
SEQUENCE:0
TRANSP:OPAQUE
END:VEVENT
END:VCALENDAR
