BEGIN:VCALENDAR
VERSION:2.0
CALSCALE:GREGORIAN
BEGIN:VEVENT
DTSTAMP:20260420T110515
DTSTART:20260507T180000
DTEND:20260507T200000
SUMMARY:Spring In Sicily - Wine Dinner
DESCRIPTION:Event Info: https://www.localwineevents.com/view/event/spring-in-sicily---wine-dinner/1002124
LOCATION:Isola Wine and Tapas -- 16 Hudson Street Kinderhook, NY 12106
STATUS:CONFIRMED
SEQUENCE:0
TRANSP:OPAQUE
END:VEVENT
END:VCALENDAR
