BEGIN:VCALENDAR
VERSION:2.0
CALSCALE:GREGORIAN
BEGIN:VEVENT
DTSTAMP:20260419T114622
DTSTART:20260506T180000
DTEND:20260506T200000
SUMMARY:Urbani Caviar Tasting
DESCRIPTION:Event Info: https://www.localwineevents.com/view/event/urbani-caviar-tasting/1002121
LOCATION:Urbani Truffles USA Inc -- 10 West End Avenue New York, NY 10023
STATUS:CONFIRMED
SEQUENCE:0
TRANSP:OPAQUE
END:VEVENT
END:VCALENDAR
