BEGIN:VCALENDAR
VERSION:2.0
CALSCALE:GREGORIAN
BEGIN:VEVENT
DTSTAMP:20260421T050838
DTSTART:20260506T190000
DTEND:20260506T210000
SUMMARY:Bourbon And BBQ Experience
DESCRIPTION:Event Info: https://www.localwineevents.com/view/event/bourbon-and-bbq-experience/1002118
LOCATION:530 NW 77th St -- 530 Northwest 77th Street Boca Raton, FL 33487
STATUS:CONFIRMED
SEQUENCE:0
TRANSP:OPAQUE
END:VEVENT
END:VCALENDAR
