BEGIN:VCALENDAR
VERSION:2.0
CALSCALE:GREGORIAN
BEGIN:VEVENT
DTSTAMP:20260421T162912
DTSTART:20260506T173000
DTEND:20260506T193000
SUMMARY:Craft Mixology Class: Tropical Cocktails
DESCRIPTION:Event Info: https://www.localwineevents.com/view/event/craft-mixology-class-tropical-cocktails/1002115
LOCATION:Straightaway Cocktails -- 901 Southeast Hawthorne Boulevard Portland, OR 97214
STATUS:CONFIRMED
SEQUENCE:0
TRANSP:OPAQUE
END:VEVENT
END:VCALENDAR
