BEGIN:VCALENDAR
VERSION:2.0
CALSCALE:GREGORIAN
BEGIN:VEVENT
DTSTAMP:20260421T163950
DTSTART:20260506T180000
DTEND:20260506T190000
SUMMARY:Tequila Tasting Experience At Hush
DESCRIPTION:Event Info: https://www.localwineevents.com/view/event/tequila-tasting-experience-at-hush/1002106
LOCATION:211 S Main St -- 211 South Main Street Keller, TX 76248
STATUS:CONFIRMED
SEQUENCE:0
TRANSP:OPAQUE
END:VEVENT
END:VCALENDAR
