BEGIN:VCALENDAR
VERSION:2.0
CALSCALE:GREGORIAN
BEGIN:VEVENT
DTSTAMP:20260419T114750
DTSTART:20260506T190000
DTEND:20260506T210000
SUMMARY:In-Person Class: Traditional Tiramisu Trio (NYC)
DESCRIPTION:Event Info: https://www.localwineevents.com/view/event/in-person-class-traditional-tiramisu-trio-nyc/1002105
LOCATION:Selina Chelsea New York City -- 518 West 27th Street New York, NY 10001
STATUS:CONFIRMED
SEQUENCE:0
TRANSP:OPAQUE
END:VEVENT
END:VCALENDAR
