BEGIN:VCALENDAR
VERSION:2.0
CALSCALE:GREGORIAN
BEGIN:VEVENT
DTSTAMP:20260421T163929
DTSTART:20260506T180000
DTEND:20260506T193000
SUMMARY:Whiskey Tasting Class
DESCRIPTION:Event Info: https://www.localwineevents.com/view/event/whiskey-tasting-class/1002102
LOCATION:Vitruvian Park Tavern -- 3870 Ponte Avenue Addison, TX 75001
STATUS:CONFIRMED
SEQUENCE:0
TRANSP:OPAQUE
END:VEVENT
END:VCALENDAR
