BEGIN:VCALENDAR
VERSION:2.0
CALSCALE:GREGORIAN
BEGIN:VEVENT
DTSTAMP:20260420T154430
DTSTART:20260506T190000
DTEND:20260506T203000
SUMMARY:Tequila  Mezcal  Tasting Experience
DESCRIPTION:Event Info: https://www.localwineevents.com/view/event/tequila-mezcal-tasting-experience/1002101
LOCATION:VOX Residences -- 3333 La Cienega Boulevard Los Angeles, CA 90016
STATUS:CONFIRMED
SEQUENCE:0
TRANSP:OPAQUE
END:VEVENT
END:VCALENDAR
