BEGIN:VCALENDAR
VERSION:2.0
CALSCALE:GREGORIAN
BEGIN:VEVENT
DTSTAMP:20260420T104120
DTSTART:20260506T190000
DTEND:20260506T210000
SUMMARY:Chef Greg\'s Charcuterie Class
DESCRIPTION:Event Info: https://www.localwineevents.com/view/event/chef-gregs-charcuterie-class/1002093
LOCATION:The Lark - Wine Bar of Ada -- 7415 River Street Southeast Forest Hills, MI 49301
STATUS:CONFIRMED
SEQUENCE:0
TRANSP:OPAQUE
END:VEVENT
END:VCALENDAR
