BEGIN:VCALENDAR
VERSION:2.0
CALSCALE:GREGORIAN
BEGIN:VEVENT
DTSTAMP:20260421T163924
DTSTART:20260506T183000
DTEND:20260506T210000
SUMMARY:A Tuscan Dinner
DESCRIPTION:Event Info: https://www.localwineevents.com/view/event/a-tuscan-dinner/1002089
LOCATION:Central Market Fort Worth -- 4651 West Freeway Fort Worth, TX 76107
STATUS:CONFIRMED
SEQUENCE:0
TRANSP:OPAQUE
END:VEVENT
END:VCALENDAR
