BEGIN:VCALENDAR
VERSION:2.0
CALSCALE:GREGORIAN
BEGIN:VEVENT
DTSTAMP:20260420T154403
DTSTART:20260506T180000
DTEND:20260506T200000
SUMMARY:Rossopomodoro\'s Pizza Counter - Hands-On Pizza Making
DESCRIPTION:Event Info: https://www.localwineevents.com/view/event/rossopomodoros-pizza-counter---hands-on-pizza-making/1002066
LOCATION:La Pizza  La Pasta -- 1801 Avenue of the Stars Los Angeles, CA 90067
STATUS:CONFIRMED
SEQUENCE:0
TRANSP:OPAQUE
END:VEVENT
END:VCALENDAR
