BEGIN:VCALENDAR
VERSION:2.0
CALSCALE:GREGORIAN
BEGIN:VEVENT
DTSTAMP:20260422T234105
DTSTART:20260506T170000
DTEND:20260506T190000
SUMMARY:Wine Expo At The Citrus Club
DESCRIPTION:Event Info: https://www.localwineevents.com/view/event/wine-expo-at-the-citrus-club/1002063
LOCATION:Citrus Club -- 255 South Orange Avenue Orlando, FL 32801
STATUS:CONFIRMED
SEQUENCE:0
TRANSP:OPAQUE
END:VEVENT
END:VCALENDAR
