BEGIN:VCALENDAR
VERSION:2.0
CALSCALE:GREGORIAN
BEGIN:VEVENT
DTSTAMP:20260422T163956
DTSTART:20260506T173000
DTEND:20260506T193000
SUMMARY:INAUGURAL Premium Wine Tasting Experience At ABC Moccasin Wallow
DESCRIPTION:Event Info: https://www.localwineevents.com/view/event/inaugural-premium-wine-tasting-experience-at-abc-moccasin-wallow/1002057
LOCATION:ABC Fine Wine  Spirits -- 4925 Moccasin Wallow Road Palmetto, FL 34221
STATUS:CONFIRMED
SEQUENCE:0
TRANSP:OPAQUE
END:VEVENT
END:VCALENDAR
