BEGIN:VCALENDAR
VERSION:2.0
CALSCALE:GREGORIAN
BEGIN:VEVENT
DTSTAMP:20260422T200449
DTSTART:20260506T173000
DTEND:20260506T193000
SUMMARY:ABC Inverness Premium Wine Tasting Experience
DESCRIPTION:Event Info: https://www.localwineevents.com/view/event/abc-inverness-premium-wine-tasting-experience/1002051
LOCATION:ABC Fine Wine  Spirits -- 1795 West Main Street Inverness, FL 34450
STATUS:CONFIRMED
SEQUENCE:0
TRANSP:OPAQUE
END:VEVENT
END:VCALENDAR
