BEGIN:VCALENDAR
VERSION:2.0
CALSCALE:GREGORIAN
BEGIN:VEVENT
DTSTAMP:20260422T233914
DTSTART:20260506T173000
DTEND:20260506T193000
SUMMARY:ABC University/Aloma Premium Wine Tasting Experience
DESCRIPTION:Event Info: https://www.localwineevents.com/view/event/abc-universityaloma-premium-wine-tasting-experience/1002046
LOCATION:ABC Fine Wine  Spirits -- 399 North Semoran Boulevard Winter Park, FL 32792
STATUS:CONFIRMED
SEQUENCE:0
TRANSP:OPAQUE
END:VEVENT
END:VCALENDAR
