BEGIN:VCALENDAR
VERSION:2.0
CALSCALE:GREGORIAN
BEGIN:VEVENT
DTSTAMP:20260420T175701
DTSTART:20260506T120000
DTEND:20260506T163000
SUMMARY:Sip And Savor At Olivas De Oro
DESCRIPTION:Event Info: https://www.localwineevents.com/view/event/sip-and-savor-at-olivas-de-oro/1002037
LOCATION:2989 Limestone Way -- 2989 Limestone Way Paso Robles, CA 93446
STATUS:CONFIRMED
SEQUENCE:0
TRANSP:OPAQUE
END:VEVENT
END:VCALENDAR
