BEGIN:VCALENDAR
VERSION:2.0
CALSCALE:GREGORIAN
BEGIN:VEVENT
DTSTAMP:20260422T145759
DTSTART:20260506T170000
DTEND:20260506T190000
SUMMARY:Wine Cellar Social Club
DESCRIPTION:Event Info: https://www.localwineevents.com/view/event/wine-cellar-social-club/1002028
LOCATION:Michael\'s Wine Cellar -- 1283 S Tamiami Trail Sarasota, FL 34239
STATUS:CONFIRMED
SEQUENCE:0
TRANSP:OPAQUE
END:VEVENT
END:VCALENDAR
