BEGIN:VCALENDAR
VERSION:2.0
CALSCALE:GREGORIAN
BEGIN:VEVENT
DTSTAMP:20260422T163931
DTSTART:20260506T183000
DTEND:20260506T210000
SUMMARY:Piedmont Wine Dinner Featuring Wines Of Cogno Winery
DESCRIPTION:Event Info: https://www.localwineevents.com/view/event/piedmont-wine-dinner-featuring-wines-of-cogno-winery/1002026
LOCATION:Chateau Cellars -- 2009 North 22nd Street Tampa, FL 33605
STATUS:CONFIRMED
SEQUENCE:0
TRANSP:OPAQUE
END:VEVENT
END:VCALENDAR
