BEGIN:VCALENDAR
VERSION:2.0
CALSCALE:GREGORIAN
BEGIN:VEVENT
DTSTAMP:20260421T161821
DTSTART:20260506T180000
DTEND:20260506T210000
SUMMARY:Spring Wine Dinner Featuring Cristom Vineyards
DESCRIPTION:Event Info: https://www.localwineevents.com/view/event/spring-wine-dinner-featuring-cristom-vineyards/1002022
LOCATION:Nicoletta\'s Table and Marketplace -- 333 South State Street Lake Oswego, OR 97034
STATUS:CONFIRMED
SEQUENCE:0
TRANSP:OPAQUE
END:VEVENT
END:VCALENDAR
