BEGIN:VCALENDAR
VERSION:2.0
CALSCALE:GREGORIAN
BEGIN:VEVENT
DTSTAMP:20260422T163752
DTSTART:20260506T183000
DTEND:20260506T230000
SUMMARY:Ilatium Morini Wine Dinner
DESCRIPTION:Event Info: https://www.localwineevents.com/view/event/ilatium-morini-wine-dinner/1002020
LOCATION:Belleair Hideaway -- 560 Indian Rocks Road North Belleair Bluffs, FL 33770
STATUS:CONFIRMED
SEQUENCE:0
TRANSP:OPAQUE
END:VEVENT
END:VCALENDAR
