BEGIN:VCALENDAR
VERSION:2.0
CALSCALE:GREGORIAN
BEGIN:VEVENT
DTSTAMP:20260424T062045
DTSTART:20260423T110000
DTEND:20260423T140000
SUMMARY:Vineyard Brands South American Tasting In SF 4/23
DESCRIPTION:Event Info: https://www.localwineevents.com/view/event/vineyard-brands-south-american-tasting-in-sf-423/1002016
LOCATION:La Connessa -- 1695 Mariposa St. San Francisco, CA 94107
STATUS:CONFIRMED
SEQUENCE:0
TRANSP:OPAQUE
END:VEVENT
END:VCALENDAR
