BEGIN:VCALENDAR
VERSION:2.0
CALSCALE:GREGORIAN
BEGIN:VEVENT
DTSTAMP:20260424T062058
DTSTART:20260429T180000
DTEND:20260429T200000
SUMMARY:Exclusive Performance By Ray Chen
DESCRIPTION:Event Info: https://www.localwineevents.com/view/event/exclusive-performance-by-ray-chen/1002013
LOCATION:Bouchaine Vineyards -- 1075 Buchli Station Rd Napa, CA 94559
STATUS:CONFIRMED
SEQUENCE:0
TRANSP:OPAQUE
END:VEVENT
END:VCALENDAR
