BEGIN:VCALENDAR
VERSION:2.0
CALSCALE:GREGORIAN
BEGIN:VEVENT
DTSTAMP:20260424T062043
DTSTART:20260423T180000
DTEND:20260423T200000
SUMMARY:Wine And Cheese Pairing At Windchaser Wine
DESCRIPTION:Event Info: https://www.localwineevents.com/view/event/wine-and-cheese-pairing-at-windchaser-wine/1002007
LOCATION:Windchaser Wine Co. -- 1352 S 49th St Richmond, CA 94804
STATUS:CONFIRMED
SEQUENCE:0
TRANSP:OPAQUE
END:VEVENT
END:VCALENDAR
