BEGIN:VCALENDAR
VERSION:2.0
CALSCALE:GREGORIAN
BEGIN:VEVENT
DTSTAMP:20260422T163827
DTSTART:20260424T170000
DTEND:20260424T190000
SUMMARY:Wine Tasting
DESCRIPTION:Event Info: https://www.localwineevents.com/view/event/wine-tasting/1002006
LOCATION:The Wine Shop Inc -- 552 Clearwater Largo Rd N Largo, Florida 33770
STATUS:CONFIRMED
SEQUENCE:0
TRANSP:OPAQUE
END:VEVENT
END:VCALENDAR
