BEGIN:VCALENDAR
VERSION:2.0
CALSCALE:GREGORIAN
BEGIN:VEVENT
DTSTAMP:20260424T062058
DTSTART:20260429T083000
DTEND:20260429T110000
SUMMARY:26th Annual Wine Industry Conference
DESCRIPTION:Event Info: https://www.localwineevents.com/view/event/26th-annual-wine-industry-conference/1001986
LOCATION:Oxford Suites -- 67 Golf Course Dr. W Rohnert Park, CA 94928
STATUS:CONFIRMED
SEQUENCE:0
TRANSP:OPAQUE
END:VEVENT
END:VCALENDAR
