BEGIN:VCALENDAR
VERSION:2.0
CALSCALE:GREGORIAN
BEGIN:VEVENT
DTSTAMP:20260421T162004
DTSTART:20260502T120000
DTEND:20260502T200000
SUMMARY:Equinox 2026: Grand Tasting  Educational
DESCRIPTION:Event Info: https://www.localwineevents.com/view/event/equinox-2026-grand-tasting-educational/1001984
LOCATION:Zenith Vineyard -- 5657 Zena Road Northwest Salem, OR 97304
STATUS:CONFIRMED
SEQUENCE:0
TRANSP:OPAQUE
END:VEVENT
END:VCALENDAR
